BEGIN:VCALENDAR
VERSION:2.0
PRODID:-//Capilano Students&#039; Union - ECPv6.15.20//NONSGML v1.0//EN
CALSCALE:GREGORIAN
METHOD:PUBLISH
X-WR-CALNAME:Capilano Students&#039; Union
X-ORIGINAL-URL:https://csu.bc.ca
X-WR-CALDESC:Events for Capilano Students&#039; Union
REFRESH-INTERVAL;VALUE=DURATION:PT1H
X-Robots-Tag:noindex
X-PUBLISHED-TTL:PT1H
BEGIN:VTIMEZONE
TZID:America/Vancouver
BEGIN:DAYLIGHT
TZOFFSETFROM:-0800
TZOFFSETTO:-0700
TZNAME:PDT
DTSTART:20250309T100000
END:DAYLIGHT
BEGIN:STANDARD
TZOFFSETFROM:-0700
TZOFFSETTO:-0800
TZNAME:PST
DTSTART:20251102T090000
END:STANDARD
BEGIN:DAYLIGHT
TZOFFSETFROM:-0800
TZOFFSETTO:-0700
TZNAME:PDT
DTSTART:20260308T100000
END:DAYLIGHT
BEGIN:STANDARD
TZOFFSETFROM:-0700
TZOFFSETTO:-0800
TZNAME:PST
DTSTART:20261101T090000
END:STANDARD
BEGIN:DAYLIGHT
TZOFFSETFROM:-0800
TZOFFSETTO:-0700
TZNAME:PDT
DTSTART:20270314T100000
END:DAYLIGHT
BEGIN:STANDARD
TZOFFSETFROM:-0700
TZOFFSETTO:-0800
TZNAME:PST
DTSTART:20271107T090000
END:STANDARD
END:VTIMEZONE
BEGIN:VEVENT
DTSTART;TZID=America/Vancouver:20260506T120000
DTEND;TZID=America/Vancouver:20260506T130000
DTSTAMP:20260424T131534
CREATED:20260312T192904Z
LAST-MODIFIED:20260423T195905Z
UID:22516-1778068800-1778072400@csu.bc.ca
SUMMARY:CSU Governance Committee
DESCRIPTION:Join with Google Meet: https://meet.google.com/dyc-hnux-mnj\nOr dial: (CA) +1 289-323-9401 PIN: 470284957#\nMore phone numbers: https://tel.meet/dyc-hnux-mnj?pin=6022700204483&hs=7\nLearn more about Meet at: https://support.google.com/a/users/answer/9282720
URL:https://csu.bc.ca/event/csu-governance-committee-29/
LOCATION:Maple Building-1-CSU Maple Boardroom (MA 116) (24)
END:VEVENT
BEGIN:VEVENT
DTSTART;TZID=America/Vancouver:20260506T130000
DTEND;TZID=America/Vancouver:20260506T135500
DTSTAMP:20260424T131534
CREATED:20260312T192904Z
LAST-MODIFIED:20260423T195905Z
UID:22515-1778072400-1778075700@csu.bc.ca
SUMMARY:CBPS Executive Meeting
DESCRIPTION:Join with Google Meet: https://meet.google.com/sjp-wjii-oxi\nOr dial: (CA) +1 587-977-2573 PIN: 720692269#\nMore phone numbers: https://tel.meet/sjp-wjii-oxi?pin=3317149941098&hs=7\nLearn more about Meet at: https://support.google.com/a/users/answer/9282720
URL:https://csu.bc.ca/event/cbps-executive-meeting-64/
LOCATION:Maple Building-1-CSU Maple Boardroom (MA 116) (24)
END:VEVENT
END:VCALENDAR