BEGIN:VCALENDAR
VERSION:2.0
PRODID:-//Capilano Students&#039; Union - ECPv6.15.20//NONSGML v1.0//EN
CALSCALE:GREGORIAN
METHOD:PUBLISH
X-WR-CALNAME:Capilano Students&#039; Union
X-ORIGINAL-URL:https://csu.bc.ca
X-WR-CALDESC:Events for Capilano Students&#039; Union
REFRESH-INTERVAL;VALUE=DURATION:PT1H
X-Robots-Tag:noindex
X-PUBLISHED-TTL:PT1H
BEGIN:VTIMEZONE
TZID:America/Vancouver
BEGIN:DAYLIGHT
TZOFFSETFROM:-0800
TZOFFSETTO:-0700
TZNAME:PDT
DTSTART:20250309T100000
END:DAYLIGHT
BEGIN:STANDARD
TZOFFSETFROM:-0700
TZOFFSETTO:-0800
TZNAME:PST
DTSTART:20251102T090000
END:STANDARD
BEGIN:DAYLIGHT
TZOFFSETFROM:-0800
TZOFFSETTO:-0700
TZNAME:PDT
DTSTART:20260308T100000
END:DAYLIGHT
BEGIN:STANDARD
TZOFFSETFROM:-0700
TZOFFSETTO:-0800
TZNAME:PST
DTSTART:20261101T090000
END:STANDARD
BEGIN:DAYLIGHT
TZOFFSETFROM:-0800
TZOFFSETTO:-0700
TZNAME:PDT
DTSTART:20270314T100000
END:DAYLIGHT
BEGIN:STANDARD
TZOFFSETFROM:-0700
TZOFFSETTO:-0800
TZNAME:PST
DTSTART:20271107T090000
END:STANDARD
END:VTIMEZONE
BEGIN:VEVENT
DTSTART;TZID=America/Vancouver:20260514T120000
DTEND;TZID=America/Vancouver:20260514T130000
DTSTAMP:20260424T133149
CREATED:20260402T194437Z
LAST-MODIFIED:20260423T195905Z
UID:22622-1778760000-1778763600@csu.bc.ca
SUMMARY:CSU Executive Committee
DESCRIPTION:Join with Google Meet: https://meet.google.com/nfn-zwhk-heo\nOr dial: (CA) +1 587-977-2243 PIN: 978375170#\nMore phone numbers: https://tel.meet/nfn-zwhk-heo?pin=2768391537850&hs=7\nLearn more about Meet at: https://support.google.com/a/users/answer/9282720
URL:https://csu.bc.ca/event/csu-executive-committee-216/
LOCATION:Maple Building-1-CSU Maple Boardroom (MA 116) (24)
END:VEVENT
BEGIN:VEVENT
DTSTART;TZID=America/Vancouver:20260514T120000
DTEND;TZID=America/Vancouver:20260514T140000
DTSTAMP:20260424T133149
CREATED:20260416T114358Z
LAST-MODIFIED:20260424T115854Z
UID:22678-1778760000-1778767200@csu.bc.ca
SUMMARY:Capilano Canyon Hike
DESCRIPTION:Let’s hike together with other Cap U students!\n\n\nJoin the CSU and other Cap U students on a hike through Lynn Loop area in North Vancouver. \nThis is a 1 hour easy-moderate hike that is 2.6km long\, includes some steep sections\, and may be diffcult for those without proper footwear. Please arrive wearing clothes you can move around and sweat in\, proper footwear\, and prepare for some cold and likely wet weather. \nWe will meet at 12PM on Thursday May 14 at the Capilano River Dam Parking lot and walk to the trail head together. Please don’t be late! We will hike rain or shine.
URL:https://csu.bc.ca/event/capilano-canyon-hike/
LOCATION:Parking Capilano River Dam\, 5077 Dam Rd\, North Vancouver\, BC\, V7R 4K7\, Canada
ATTACH;FMTTYPE=image/jpeg:https://csu.bc.ca/wp-content/uploads/2024/05/0c5b6c0d8ed184a73227a8fcf60f4da1.jpg
END:VEVENT
BEGIN:VEVENT
DTSTART;TZID=America/Vancouver:20260514T133000
DTEND;TZID=America/Vancouver:20260514T143000
DTSTAMP:20260424T133149
CREATED:20260319T192904Z
LAST-MODIFIED:20260423T195905Z
UID:22547-1778765400-1778769000@csu.bc.ca
SUMMARY:CSU Events and Services Committee
DESCRIPTION:Join with Google Meet: https://meet.google.com/nrv-ihhr-hyp\nOr dial: (CA) +1 289-316-8065 PIN: 437150507#\nMore phone numbers: https://tel.meet/nrv-ihhr-hyp?pin=5554266913552&hs=7\nLearn more about Meet at: https://support.google.com/a/users/answer/9282720
URL:https://csu.bc.ca/event/csu-events-and-services-committee-16/
LOCATION:Maple Building-1-CSU Maple Boardroom (MA 116) (24)
END:VEVENT
END:VCALENDAR