BEGIN:VCALENDAR
VERSION:2.0
PRODID:-//Capilano Students&#039; Union - ECPv6.15.20//NONSGML v1.0//EN
CALSCALE:GREGORIAN
METHOD:PUBLISH
X-WR-CALNAME:Capilano Students&#039; Union
X-ORIGINAL-URL:https://csu.bc.ca
X-WR-CALDESC:Events for Capilano Students&#039; Union
REFRESH-INTERVAL;VALUE=DURATION:PT1H
X-Robots-Tag:noindex
X-PUBLISHED-TTL:PT1H
BEGIN:VTIMEZONE
TZID:America/Vancouver
BEGIN:DAYLIGHT
TZOFFSETFROM:-0800
TZOFFSETTO:-0700
TZNAME:PDT
DTSTART:20250309T100000
END:DAYLIGHT
BEGIN:STANDARD
TZOFFSETFROM:-0700
TZOFFSETTO:-0800
TZNAME:PST
DTSTART:20251102T090000
END:STANDARD
BEGIN:DAYLIGHT
TZOFFSETFROM:-0800
TZOFFSETTO:-0700
TZNAME:PDT
DTSTART:20260308T100000
END:DAYLIGHT
BEGIN:STANDARD
TZOFFSETFROM:-0700
TZOFFSETTO:-0800
TZNAME:PST
DTSTART:20261101T090000
END:STANDARD
BEGIN:DAYLIGHT
TZOFFSETFROM:-0800
TZOFFSETTO:-0700
TZNAME:PDT
DTSTART:20270314T100000
END:DAYLIGHT
BEGIN:STANDARD
TZOFFSETFROM:-0700
TZOFFSETTO:-0800
TZNAME:PST
DTSTART:20271107T090000
END:STANDARD
END:VTIMEZONE
BEGIN:VEVENT
DTSTART;TZID=America/Vancouver:20260515T120000
DTEND;TZID=America/Vancouver:20260515T130000
DTSTAMP:20260424T131636
CREATED:20260319T192904Z
LAST-MODIFIED:20260423T195906Z
UID:22549-1778846400-1778850000@csu.bc.ca
SUMMARY:CSU Finance and Audit Committee
DESCRIPTION:Join with Google Meet: https://meet.google.com/nzh-raof-pwb\nOr dial: (CA) +1 613-778-7422 PIN: 586019284#\nMore phone numbers: https://tel.meet/nzh-raof-pwb?pin=7687497922811&hs=7\nLearn more about Meet at: https://support.google.com/a/users/answer/9282720
URL:https://csu.bc.ca/event/csu-finance-and-audit-committee-14/
LOCATION:Maple Building-1-CSU Maple Boardroom (MA 116) (24)
END:VEVENT
BEGIN:VEVENT
DTSTART;TZID=America/Vancouver:20260515T140000
DTEND;TZID=America/Vancouver:20260515T150000
DTSTAMP:20260424T131636
CREATED:20260319T192904Z
LAST-MODIFIED:20260423T195906Z
UID:22551-1778853600-1778857200@csu.bc.ca
SUMMARY:CSU Campaigns & Advocacy Committee
DESCRIPTION:Join with Google Meet: https://meet.google.com/wry-ekaj-vuo\nOr dial: (CA) +1 587-978-4343 PIN: 299666537#\nMore phone numbers: https://tel.meet/wry-ekaj-vuo?pin=8687334136105&hs=7\nLearn more about Meet at: https://support.google.com/a/users/answer/9282720
URL:https://csu.bc.ca/event/csu-campaigns-advocacy-committee-12/
LOCATION:Maple Building-1-CSU Maple Boardroom (MA 116) (24)
END:VEVENT
BEGIN:VEVENT
DTSTART;TZID=America/Vancouver:20260515T150000
DTEND;TZID=America/Vancouver:20260515T162500
DTSTAMP:20260424T131636
CREATED:20260319T192904Z
LAST-MODIFIED:20260423T195906Z
UID:22550-1778857200-1778862300@csu.bc.ca
SUMMARY:CBPS Council Meeting
DESCRIPTION:Join with Google Meet: https://meet.google.com/zxt-vezi-nav\nOr dial: (CA) +1 647-735-9533 PIN: 583074378#\nMore phone numbers: https://tel.meet/zxt-vezi-nav?pin=9450538799752&hs=7\nLearn more about Meet at: https://support.google.com/a/users/answer/9282720
URL:https://csu.bc.ca/event/cbps-council-meeting-50/
LOCATION:Maple Building-1-CSU Maple Boardroom (MA 116) (24)
END:VEVENT
END:VCALENDAR