BEGIN:VCALENDAR
VERSION:2.0
PRODID:-//Capilano Students&#039; Union - ECPv6.15.20//NONSGML v1.0//EN
CALSCALE:GREGORIAN
METHOD:PUBLISH
X-WR-CALNAME:Capilano Students&#039; Union
X-ORIGINAL-URL:https://csu.bc.ca
X-WR-CALDESC:Events for Capilano Students&#039; Union
REFRESH-INTERVAL;VALUE=DURATION:PT1H
X-Robots-Tag:noindex
X-PUBLISHED-TTL:PT1H
BEGIN:VTIMEZONE
TZID:America/Vancouver
BEGIN:DAYLIGHT
TZOFFSETFROM:-0800
TZOFFSETTO:-0700
TZNAME:PDT
DTSTART:20250309T100000
END:DAYLIGHT
BEGIN:STANDARD
TZOFFSETFROM:-0700
TZOFFSETTO:-0800
TZNAME:PST
DTSTART:20251102T090000
END:STANDARD
BEGIN:DAYLIGHT
TZOFFSETFROM:-0800
TZOFFSETTO:-0700
TZNAME:PDT
DTSTART:20260308T100000
END:DAYLIGHT
BEGIN:STANDARD
TZOFFSETFROM:-0700
TZOFFSETTO:-0800
TZNAME:PST
DTSTART:20261101T090000
END:STANDARD
BEGIN:DAYLIGHT
TZOFFSETFROM:-0800
TZOFFSETTO:-0700
TZNAME:PDT
DTSTART:20270314T100000
END:DAYLIGHT
BEGIN:STANDARD
TZOFFSETFROM:-0700
TZOFFSETTO:-0800
TZNAME:PST
DTSTART:20271107T090000
END:STANDARD
END:VTIMEZONE
BEGIN:VEVENT
DTSTART;TZID=America/Vancouver:20260505T113000
DTEND;TZID=America/Vancouver:20260505T123000
DTSTAMP:20260424T170334
CREATED:20260312T192904Z
LAST-MODIFIED:20260423T195905Z
UID:22514-1777980600-1777984200@csu.bc.ca
SUMMARY:CSU Pop-Up Produce
DESCRIPTION:
URL:https://csu.bc.ca/event/csu-pop-up-produce-158/
LOCATION:CSU Library Lounge\, 2055 Purcell Way Library 195\, North Vancouver\, BC V7J 3H4\, Canada
END:VEVENT
BEGIN:VEVENT
DTSTART;TZID=America/Vancouver:20260501T150000
DTEND;TZID=America/Vancouver:20260501T162500
DTSTAMP:20260424T170334
CREATED:20260305T192908Z
LAST-MODIFIED:20260423T195905Z
UID:22495-1777647600-1777652700@csu.bc.ca
SUMMARY:CBPS Council Meeting
DESCRIPTION:Join with Google Meet: https://meet.google.com/zxt-vezi-nav\nOr dial: (CA) +1 647-735-9533 PIN: 583074378#\nMore phone numbers: https://tel.meet/zxt-vezi-nav?pin=9450538799752&hs=7\nLearn more about Meet at: https://support.google.com/a/users/answer/9282720
URL:https://csu.bc.ca/event/cbps-council-meeting-48/
LOCATION:Maple Building-1-CSU Maple Boardroom (MA 116) (24)
END:VEVENT
BEGIN:VEVENT
DTSTART;TZID=America/Vancouver:20260430T120000
DTEND;TZID=America/Vancouver:20260430T130000
DTSTAMP:20260424T170334
CREATED:20260402T194436Z
LAST-MODIFIED:20260423T195905Z
UID:22620-1777550400-1777554000@csu.bc.ca
SUMMARY:CSU Executive Committee
DESCRIPTION:Join with Google Meet: https://meet.google.com/nfn-zwhk-heo\nOr dial: (CA) +1 587-977-2243 PIN: 978375170#\nMore phone numbers: https://tel.meet/nfn-zwhk-heo?pin=2768391537850&hs=7\nLearn more about Meet at: https://support.google.com/a/users/answer/9282720
URL:https://csu.bc.ca/event/csu-executive-committee-214/
LOCATION:Maple Building-1-CSU Maple Boardroom (MA 116) (24)
END:VEVENT
BEGIN:VEVENT
DTSTART;TZID=America/Vancouver:20260430T110000
DTEND;TZID=America/Vancouver:20260430T150000
DTSTAMP:20260424T170334
CREATED:20260416T114358Z
LAST-MODIFIED:20260424T115854Z
UID:22676-1777546800-1777561200@csu.bc.ca
SUMMARY:Jug Island Hike
DESCRIPTION:Let’s hike together with other Cap U students!\n\n\nJoin the CSU and other Cap U students on this hike to Jug Island in Belcarra. \nIf you joined us on the last “Jug Island Hike”\, this time the trail maintenaice is over! \nThis is a 2.5 hour intermediate hike\, and will be diffcult for beginners or those without proper footwear. Ideal for those with hiking experience. Please arrive wearing clothes you can move around and sweat in\, and proper footwear. \n \nWe will meet at 11AM on Thursday April 30th at the undercover picnic area at the trailhead. Please don’t be late! We will hike rain or shine.
URL:https://csu.bc.ca/event/jug-island-hike-3/
LOCATION:Jug Island Trailhead\, Jug Island Trail\, Belcarra\, BC\, V3H 4N6\, Canada
ATTACH;FMTTYPE=image/jpeg:https://csu.bc.ca/wp-content/uploads/2024/05/0c5b6c0d8ed184a73227a8fcf60f4da1.jpg
END:VEVENT
BEGIN:VEVENT
DTSTART;TZID=America/Vancouver:20260428T120000
DTEND;TZID=America/Vancouver:20260428T130000
DTSTAMP:20260424T170334
CREATED:20260305T192907Z
LAST-MODIFIED:20260423T195905Z
UID:22492-1777377600-1777381200@csu.bc.ca
SUMMARY:CSU University Affairs Committee
DESCRIPTION:Join with Google Meet: https://meet.google.com/guo-xzec-xvh\nOr dial: (CA) +1 289-434-8650 PIN: 434254035#\nMore phone numbers: https://tel.meet/guo-xzec-xvh?pin=8698856528991&hs=7\nLearn more about Meet at: https://support.google.com/a/users/answer/9282720
URL:https://csu.bc.ca/event/csu-university-affairs-committee-32/
LOCATION:Maple Building-1-CSU Maple Boardroom (MA 116) (24)
END:VEVENT
BEGIN:VEVENT
DTSTART;TZID=America/Vancouver:20260424T143000
DTEND;TZID=America/Vancouver:20260424T173000
DTSTAMP:20260424T170334
CREATED:20260226T192902Z
LAST-MODIFIED:20260423T195905Z
UID:22465-1777041000-1777051800@csu.bc.ca
SUMMARY:CSU Board of Directors
DESCRIPTION:Join with Google Meet: https://meet.google.com/spg-xvsx-pay\nOr dial: (CA) +1 647-738-7571 PIN: 430211722#\nMore phone numbers: https://tel.meet/spg-xvsx-pay?pin=5971373490853&hs=7\nLearn more about Meet at: https://support.google.com/a/users/answer/9282720
URL:https://csu.bc.ca/event/csu-board-of-directors-50/
LOCATION:Birch Building 126
END:VEVENT
BEGIN:VEVENT
DTSTART;TZID=America/Vancouver:20260424T120000
DTEND;TZID=America/Vancouver:20260424T130000
DTSTAMP:20260424T170334
CREATED:20260226T192902Z
LAST-MODIFIED:20260423T195905Z
UID:22464-1777032000-1777035600@csu.bc.ca
SUMMARY:CSU Collectives Committee
DESCRIPTION:Join with Google Meet: https://meet.google.com/emi-fudd-emx\nOr dial: (CA) +1 289-316-7035 PIN: 996641852#\nMore phone numbers: https://tel.meet/emi-fudd-emx?pin=6480245096488&hs=7\nLearn more about Meet at: https://support.google.com/a/users/answer/9282720
URL:https://csu.bc.ca/event/csu-collectives-committee-19/
LOCATION:Maple Building-1-CSU Maple Boardroom (MA 116) (24)
END:VEVENT
END:VCALENDAR