BEGIN:VCALENDAR
VERSION:2.0
PRODID:-//Capilano Students&#039; Union - ECPv6.15.20//NONSGML v1.0//EN
CALSCALE:GREGORIAN
METHOD:PUBLISH
X-WR-CALNAME:Capilano Students&#039; Union
X-ORIGINAL-URL:https://csu.bc.ca
X-WR-CALDESC:Events for Capilano Students&#039; Union
REFRESH-INTERVAL;VALUE=DURATION:PT1H
X-Robots-Tag:noindex
X-PUBLISHED-TTL:PT1H
BEGIN:VTIMEZONE
TZID:America/Vancouver
BEGIN:DAYLIGHT
TZOFFSETFROM:-0800
TZOFFSETTO:-0700
TZNAME:PDT
DTSTART:20250309T100000
END:DAYLIGHT
BEGIN:STANDARD
TZOFFSETFROM:-0700
TZOFFSETTO:-0800
TZNAME:PST
DTSTART:20251102T090000
END:STANDARD
BEGIN:DAYLIGHT
TZOFFSETFROM:-0800
TZOFFSETTO:-0700
TZNAME:PDT
DTSTART:20260308T100000
END:DAYLIGHT
BEGIN:STANDARD
TZOFFSETFROM:-0700
TZOFFSETTO:-0800
TZNAME:PST
DTSTART:20261101T090000
END:STANDARD
BEGIN:DAYLIGHT
TZOFFSETFROM:-0800
TZOFFSETTO:-0700
TZNAME:PDT
DTSTART:20270314T100000
END:DAYLIGHT
BEGIN:STANDARD
TZOFFSETFROM:-0700
TZOFFSETTO:-0800
TZNAME:PST
DTSTART:20271107T090000
END:STANDARD
END:VTIMEZONE
BEGIN:VEVENT
DTSTART;TZID=America/Vancouver:20260529T110000
DTEND;TZID=America/Vancouver:20260529T153000
DTSTAMP:20260424T152658
CREATED:20260416T114358Z
LAST-MODIFIED:20260424T115854Z
UID:22679-1780052400-1780068600@csu.bc.ca
SUMMARY:Tunnel Bluffs Hike
DESCRIPTION:Let’s hike together with other Cap U students!\n\n\nJoin the CSU and other Cap U students (open to students on all campuses!) on this hike to Tunnel Bluffs in Lion’s Bay. Translink goes up to Lion’s Bay\, so you can use your Compass Card! \nThis is a 4 hour difficult hike\, and is not for beginners or those without proper footwear. You must have hiking experience. Please dress for the weather and arrive wearing clothes you can move around and sweat in\, wear proper footwear\, and bring water and snacks. \n \nWe will meet at 11AM on Friday May 29th at Lions Bay Elementary School. Please don’t be late! We will hike rain or shine. \n**Squamish Campus Students only: If you are unsure of your transportation getting to the meeting point\, contact Abby (CSU Squamish Campus Coordinator) at aukich@csu.bc.ca
URL:https://csu.bc.ca/event/tunnel-bluffs-hike-4/
LOCATION:Lions Bay Elementary School\, 250 Bayview Road\, Lions Bay\, BC\, V0N 2E0\, Canada
ATTACH;FMTTYPE=image/jpeg:https://csu.bc.ca/wp-content/uploads/2025/08/b98f22984a12ded0809a3f8a28b19d6b.jpg
END:VEVENT
BEGIN:VEVENT
DTSTART;TZID=America/Vancouver:20260529T150000
DTEND;TZID=America/Vancouver:20260529T162500
DTSTAMP:20260424T152658
CREATED:20260402T194440Z
LAST-MODIFIED:20260423T195906Z
UID:22630-1780066800-1780071900@csu.bc.ca
SUMMARY:CBPS Council Meeting
DESCRIPTION:Join with Google Meet: https://meet.google.com/zxt-vezi-nav\nOr dial: (CA) +1 647-735-9533 PIN: 583074378#\nMore phone numbers: https://tel.meet/zxt-vezi-nav?pin=9450538799752&hs=7\nLearn more about Meet at: https://support.google.com/a/users/answer/9282720
URL:https://csu.bc.ca/event/cbps-council-meeting-51/
LOCATION:Maple Building-1-CSU Maple Boardroom (MA 116) (24)
END:VEVENT
BEGIN:VEVENT
DTSTART;TZID=America/Vancouver:20260602T113000
DTEND;TZID=America/Vancouver:20260602T123000
DTSTAMP:20260424T152658
CREATED:20260409T194408Z
LAST-MODIFIED:20260423T195906Z
UID:22653-1780399800-1780403400@csu.bc.ca
SUMMARY:CSU Pop-Up Produce
DESCRIPTION:
URL:https://csu.bc.ca/event/csu-pop-up-produce-170/
LOCATION:CSU Library Lounge\, 2055 Purcell Way Library 195\, North Vancouver\, BC V7J 3H4\, Canada
END:VEVENT
BEGIN:VEVENT
DTSTART;TZID=America/Vancouver:20260605T143000
DTEND;TZID=America/Vancouver:20260605T173000
DTSTAMP:20260424T152658
CREATED:20260409T194408Z
LAST-MODIFIED:20260423T195906Z
UID:22654-1780669800-1780680600@csu.bc.ca
SUMMARY:CSU Board of Directors
DESCRIPTION:Join with Google Meet: https://meet.google.com/spg-xvsx-pay\nOr dial: (CA) +1 647-738-7571 PIN: 430211722#\nMore phone numbers: https://tel.meet/spg-xvsx-pay?pin=5971373490853&hs=7\nLearn more about Meet at: https://support.google.com/a/users/answer/9282720
URL:https://csu.bc.ca/event/csu-board-of-directors-53/
LOCATION:Library Building 322
END:VEVENT
BEGIN:VEVENT
DTSTART;TZID=America/Vancouver:20260609T113000
DTEND;TZID=America/Vancouver:20260609T123000
DTSTAMP:20260424T152658
CREATED:20260416T194418Z
LAST-MODIFIED:20260423T195907Z
UID:22683-1781004600-1781008200@csu.bc.ca
SUMMARY:CSU Pop-Up Produce
DESCRIPTION:
URL:https://csu.bc.ca/event/csu-pop-up-produce-171/
LOCATION:CSU Library Lounge\, 2055 Purcell Way Library 195\, North Vancouver\, BC V7J 3H4\, Canada
END:VEVENT
BEGIN:VEVENT
DTSTART;TZID=America/Vancouver:20260616T113000
DTEND;TZID=America/Vancouver:20260616T123000
DTSTAMP:20260424T152658
CREATED:20260423T195907Z
LAST-MODIFIED:20260423T195907Z
UID:22702-1781609400-1781613000@csu.bc.ca
SUMMARY:CSU Pop-Up Produce
DESCRIPTION:
URL:https://csu.bc.ca/event/csu-pop-up-produce-156/
LOCATION:CSU Library Lounge\, 2055 Purcell Way Library 195\, North Vancouver\, BC V7J 3H4\, Canada
END:VEVENT
END:VCALENDAR